Workbook

Sheet COMECE AQUI
A1: DIAGNÓSTICO DE ENTRADA • MATEMÁTICA • 7º ANO
A4: ANALISADOR DIGITAL
A7: Escolha o nível de análise que faz sentido para sua realidade. A planilha organiza evidências; a decisão pedagógica continua sendo do professor.
A10: VISÃO COLETIVA | E10: VISÃO INDIVIDUAL
A11: Informe o número de participantes e a quantidade de acertos em cada questão. Registre o Desafio separadamente como completo, parcial ou insuficiente. | E11: Cole os nomes e registre as alternativas A, B, C ou D. É opcional e mostra o desempenho geral e por eixo de cada estudante.
A17: Use somente a Versão Prática. A Versão Aprofundada tem correção manual pelo Guia do Professor.
A19: Arquitetura da Aula · arquiteturadaaula.com.br

Sheet ANÁLISE COLETIVA
A1: ANÁLISE COLETIVA
A4: Turma | H4: Eixo | I4: Desempenho | J4: Leitura
A5: Professor(a) | H5: Números naturais | I5: =IF(COUNT(D10:D11)=0,"",AVERAGE(D10:D11)) | J5: =IF(I5="","",IF(I5>='CONFIG (NÃO EDITAR)'!$H$2,"Tendência de consolidação",IF(I5>='CONFIG (NÃO EDITAR)'!$H$3,"Atenção","Possível prioridade")))
A6: Participantes | H6: Frações | I6: =IF(COUNT(D12:D13)=0,"",AVERAGE(D12:D13)) | J6: =IF(I6="","",IF(I6>='CONFIG (NÃO EDITAR)'!$H$2,"Tendência de consolidação",IF(I6>='CONFIG (NÃO EDITAR)'!$H$3,"Atenção","Possível prioridade")))
A7: Data | H7: Números decimais | I7: =IF(COUNT(D14:D15)=0,"",AVERAGE(D14:D15)) | J7: =IF(I7="","",IF(I7>='CONFIG (NÃO EDITAR)'!$H$2,"Tendência de consolidação",IF(I7>='CONFIG (NÃO EDITAR)'!$H$3,"Atenção","Possível prioridade")))
H8: Porcentagem | I8: =IF(COUNT(D16)=0,"",D16) | J8: =IF(I8="","",IF(I8>='CONFIG (NÃO EDITAR)'!$H$2,"Tendência de consolidação",IF(I8>='CONFIG (NÃO EDITAR)'!$H$3,"Atenção","Possível prioridade")))
A9: Questão | B9: Acertos | C9: Erros | D9: % acerto | E9: Eixo | F9: Leitura | H9: Geometria plana | I9: =IF(COUNT(D17:D18)=0,"",IF(COUNT(B24:B26)=0,AVERAGE(D17:D18),AVERAGE(D17:D18,(B24+0.5*B25)/$B$6))) | J9: =IF(I9="","",IF(I9>='CONFIG (NÃO EDITAR)'!$H$2,"Tendência de consolidação",IF(I9>='CONFIG (NÃO EDITAR)'!$H$3,"Atenção","Possível prioridade")))
A10: Q1 | C10: =IF(B10="","",$B$6-B10) | D10: =IF(OR(B10="",$B$6=""),"",B10/$B$6) | E10: Números naturais | F10: =IF(D10="","",IF(D10>='CONFIG (NÃO EDITAR)'!$H$2,"Tendência de consolidação",IF(D10>='CONFIG (NÃO EDITAR)'!$H$3,"Atenção","Possível prioridade")))
A11: Q2 | C11: =IF(B11="","",$B$6-B11) | D11: =IF(OR(B11="",$B$6=""),"",B11/$B$6) | E11: Números naturais | F11: =IF(D11="","",IF(D11>='CONFIG (NÃO EDITAR)'!$H$2,"Tendência de consolidação",IF(D11>='CONFIG (NÃO EDITAR)'!$H$3,"Atenção","Possível prioridade"))) | H11: O Desafio não é tratado como simplesmente certo ou errado. Quando preenchido, "completo" vale 100%, "parcial" vale 50% e "insuficiente" vale 0% apenas para compor a leitura coletiva de Geometria plana.
A12: Q3 | C12: =IF(B12="","",$B$6-B12) | D12: =IF(OR(B12="",$B$6=""),"",B12/$B$6) | E12: Frações | F12: =IF(D12="","",IF(D12>='CONFIG (NÃO EDITAR)'!$H$2,"Tendência de consolidação",IF(D12>='CONFIG (NÃO EDITAR)'!$H$3,"Atenção","Possível prioridade")))
A13: Q4 | C13: =IF(B13="","",$B$6-B13) | D13: =IF(OR(B13="",$B$6=""),"",B13/$B$6) | E13: Frações | F13: =IF(D13="","",IF(D13>='CONFIG (NÃO EDITAR)'!$H$2,"Tendência de consolidação",IF(D13>='CONFIG (NÃO EDITAR)'!$H$3,"Atenção","Possível prioridade")))
A14: Q5 | C14: =IF(B14="","",$B$6-B14) | D14: =IF(OR(B14="",$B$6=""),"",B14/$B$6) | E14: Números decimais | F14: =IF(D14="","",IF(D14>='CONFIG (NÃO EDITAR)'!$H$2,"Tendência de consolidação",IF(D14>='CONFIG (NÃO EDITAR)'!$H$3,"Atenção","Possível prioridade")))
A15: Q6 | C15: =IF(B15="","",$B$6-B15) | D15: =IF(OR(B15="",$B$6=""),"",B15/$B$6) | E15: Números decimais | F15: =IF(D15="","",IF(D15>='CONFIG (NÃO EDITAR)'!$H$2,"Tendência de consolidação",IF(D15>='CONFIG (NÃO EDITAR)'!$H$3,"Atenção","Possível prioridade")))
A16: Q7 | C16: =IF(B16="","",$B$6-B16) | D16: =IF(OR(B16="",$B$6=""),"",B16/$B$6) | E16: Porcentagem | F16: =IF(D16="","",IF(D16>='CONFIG (NÃO EDITAR)'!$H$2,"Tendência de consolidação",IF(D16>='CONFIG (NÃO EDITAR)'!$H$3,"Atenção","Possível prioridade")))
A17: Q8 | C17: =IF(B17="","",$B$6-B17) | D17: =IF(OR(B17="",$B$6=""),"",B17/$B$6) | E17: Geometria plana | F17: =IF(D17="","",IF(D17>='CONFIG (NÃO EDITAR)'!$H$2,"Tendência de consolidação",IF(D17>='CONFIG (NÃO EDITAR)'!$H$3,"Atenção","Possível prioridade")))
A18: Q9 | C18: =IF(B18="","",$B$6-B18) | D18: =IF(OR(B18="",$B$6=""),"",B18/$B$6) | E18: Geometria plana | F18: =IF(D18="","",IF(D18>='CONFIG (NÃO EDITAR)'!$H$2,"Tendência de consolidação",IF(D18>='CONFIG (NÃO EDITAR)'!$H$3,"Atenção","Possível prioridade")))
A23: DESAFIO ABERTO | B23: Quantidade | C23: Observação
A24: Completo | C24: Calcula o perímetro corretamente e multiplica por 3, chegando a 126.
A25: Parcial | C25: Identifica a necessidade de multiplicar, mas erra o perímetro ou a multiplicação.
A26: Insuficiente/em branco | C26: Não estrutura as duas etapas necessárias.

Sheet ANÁLISE INDIVIDUAL
A1: ANÁLISE INDIVIDUAL • OPCIONAL
A4: Registre apenas as 12 questões objetivas. O Desafio permanece como evidência qualitativa e deve ser lido com o parâmetro do Guia do Professor.
A7: Estudante | B7: Q1 | C7: Q2 | D7: Q3 | E7: Q4 | F7: Q5 | G7: Q6 | H7: Q7 | I7: Q8 | J7: Q9 | K7: Acertos | L7: % geral | M7: Números | N7: Frações | O7: Decimais | P7: Porcentagem | Q7: Geometria | R7: Decimais | S7: Porcentagem | T7: Geometria
K8: =IF(A8="","",--(B8='CONFIG (NÃO EDITAR)'!$B$2)+--(C8='CONFIG (NÃO EDITAR)'!$B$3)+--(D8='CONFIG (NÃO EDITAR)'!$B$4)+--(E8='CONFIG (NÃO EDITAR)'!$B$5)+--(F8='CONFIG (NÃO EDITAR)'!$B$6)+--(G8='CONFIG (NÃO EDITAR)'!$B$7)+--(H8='CONFIG (NÃO EDITAR)'!$B$8)+--(I8='CONFIG (NÃO EDITAR)'!$B$9)+--(J8='CONFIG (NÃO EDITAR)'!$B$10)) | L8: =IF(A8="","",K8/9) | M8: =IF(A8="","",(--(B8='CONFIG (NÃO EDITAR)'!$B$2)+--(C8='CONFIG (NÃO EDITAR)'!$B$3))/2) | N8: =IF(A8="","",(--(D8='CONFIG (NÃO EDITAR)'!$B$4)+--(E8='CONFIG (NÃO EDITAR)'!$B$5))/2) | O8: =IF(A8="","",(--(F8='CONFIG (NÃO EDITAR)'!$B$6)+--(G8='CONFIG (NÃO EDITAR)'!$B$7))/2) | P8: =IF(A8="","",(H8='CONFIG (NÃO EDITAR)'!$B$8)+0) | Q8: =IF(A8="","",(--(I8='CONFIG (NÃO EDITAR)'!$B$9)+--(J8='CONFIG (NÃO EDITAR)'!$B$10))/2) | R8: =IF(A8="","",(--(G8='CONFIG (NÃO EDITAR)'!$B$7)+--(H8='CONFIG (NÃO EDITAR)'!$B$8))/2) | S8: =IF(A8="","",(--(I8='CONFIG (NÃO EDITAR)'!$B$9)+--(J8='CONFIG (NÃO EDITAR)'!$B$10))/2) | T8: =IF(A8="","",(--(K8='CONFIG (NÃO EDITAR)'!$B$11)+--(L8='CONFIG (NÃO EDITAR)'!$B$12)+--(M8='CONFIG (NÃO EDITAR)'!$B$13))/3)
K9: =IF(A9="","",--(B9='CONFIG (NÃO EDITAR)'!$B$2)+--(C9='CONFIG (NÃO EDITAR)'!$B$3)+--(D9='CONFIG (NÃO EDITAR)'!$B$4)+--(E9='CONFIG (NÃO EDITAR)'!$B$5)+--(F9='CONFIG (NÃO EDITAR)'!$B$6)+--(G9='CONFIG (NÃO EDITAR)'!$B$7)+--(H9='CONFIG (NÃO EDITAR)'!$B$8)+--(I9='CONFIG (NÃO EDITAR)'!$B$9)+--(J9='CONFIG (NÃO EDITAR)'!$B$10)) | L9: =IF(A9="","",K9/9) | M9: =IF(A9="","",(--(B9='CONFIG (NÃO EDITAR)'!$B$2)+--(C9='CONFIG (NÃO EDITAR)'!$B$3))/2) | N9: =IF(A9="","",(--(D9='CONFIG (NÃO EDITAR)'!$B$4)+--(E9='CONFIG (NÃO EDITAR)'!$B$5))/2) | O9: =IF(A9="","",(--(F9='CONFIG (NÃO EDITAR)'!$B$6)+--(G9='CONFIG (NÃO EDITAR)'!$B$7))/2) | P9: =IF(A9="","",(H9='CONFIG (NÃO EDITAR)'!$B$8)+0) | Q9: =IF(A9="","",(--(I9='CONFIG (NÃO EDITAR)'!$B$9)+--(J9='CONFIG (NÃO EDITAR)'!$B$10))/2) | R9: =IF(A9="","",(--(G9='CONFIG (NÃO EDITAR)'!$B$7)+--(H9='CONFIG (NÃO EDITAR)'!$B$8))/2) | S9: =IF(A9="","",(--(I9='CONFIG (NÃO EDITAR)'!$B$9)+--(J9='CONFIG (NÃO EDITAR)'!$B$10))/2) | T9: =IF(A9="","",(--(K9='CONFIG (NÃO EDITAR)'!$B$11)+--(L9='CONFIG (NÃO EDITAR)'!$B$12)+--(M9='CONFIG (NÃO EDITAR)'!$B$13))/3)
K10: =IF(A10="","",--(B10='CONFIG (NÃO EDITAR)'!$B$2)+--(C10='CONFIG (NÃO EDITAR)'!$B$3)+--(D10='CONFIG (NÃO EDITAR)'!$B$4)+--(E10='CONFIG (NÃO EDITAR)'!$B$5)+--(F10='CONFIG (NÃO EDITAR)'!$B$6)+--(G10='CONFIG (NÃO EDITAR)'!$B$7)+--(H10='CONFIG (NÃO EDITAR)'!$B$8)+--(I10='CONFIG (NÃO EDITAR)'!$B$9)+--(J10='CONFIG (NÃO EDITAR)'!$B$10)) | L10: =IF(A10="","",K10/9) | M10: =IF(A10="","",(--(B10='CONFIG (NÃO EDITAR)'!$B$2)+--(C10='CONFIG (NÃO EDITAR)'!$B$3))/2) | N10: =IF(A10="","",(--(D10='CONFIG (NÃO EDITAR)'!$B$4)+--(E10='CONFIG (NÃO EDITAR)'!$B$5))/2) | O10: =IF(A10="","",(--(F10='CONFIG (NÃO EDITAR)'!$B$6)+--(G10='CONFIG (NÃO EDITAR)'!$B$7))/2) | P10: =IF(A10="","",(H10='CONFIG (NÃO EDITAR)'!$B$8)+0) | Q10: =IF(A10="","",(--(I10='CONFIG (NÃO EDITAR)'!$B$9)+--(J10='CONFIG (NÃO EDITAR)'!$B$10))/2) | R10: =IF(A10="","",(--(G10='CONFIG (NÃO EDITAR)'!$B$7)+--(H10='CONFIG (NÃO EDITAR)'!$B$8))/2) | S10: =IF(A10="","",(--(I10='CONFIG (NÃO EDITAR)'!$B$9)+--(J10='CONFIG (NÃO EDITAR)'!$B$10))/2) | T10: =IF(A10="","",(--(K10='CONFIG (NÃO EDITAR)'!$B$11)+--(L10='CONFIG (NÃO EDITAR)'!$B$12)+--(M10='CONFIG (NÃO EDITAR)'!$B$13))/3)
K11: =IF(A11="","",--(B11='CONFIG (NÃO EDITAR)'!$B$2)+--(C11='CONFIG (NÃO EDITAR)'!$B$3)+--(D11='CONFIG (NÃO EDITAR)'!$B$4)+--(E11='CONFIG (NÃO EDITAR)'!$B$5)+--(F11='CONFIG (NÃO EDITAR)'!$B$6)+--(G11='CONFIG (NÃO EDITAR)'!$B$7)+--(H11='CONFIG (NÃO EDITAR)'!$B$8)+--(I11='CONFIG (NÃO EDITAR)'!$B$9)+--(J11='CONFIG (NÃO EDITAR)'!$B$10)) | L11: =IF(A11="","",K11/9) | M11: =IF(A11="","",(--(B11='CONFIG (NÃO EDITAR)'!$B$2)+--(C11='CONFIG (NÃO EDITAR)'!$B$3))/2) | N11: =IF(A11="","",(--(D11='CONFIG (NÃO EDITAR)'!$B$4)+--(E11='CONFIG (NÃO EDITAR)'!$B$5))/2) | O11: =IF(A11="","",(--(F11='CONFIG (NÃO EDITAR)'!$B$6)+--(G11='CONFIG (NÃO EDITAR)'!$B$7))/2) | P11: =IF(A11="","",(H11='CONFIG (NÃO EDITAR)'!$B$8)+0) | Q11: =IF(A11="","",(--(I11='CONFIG (NÃO EDITAR)'!$B$9)+--(J11='CONFIG (NÃO EDITAR)'!$B$10))/2) | R11: =IF(A11="","",(--(G11='CONFIG (NÃO EDITAR)'!$B$7)+--(H11='CONFIG (NÃO EDITAR)'!$B$8))/2) | S11: =IF(A11="","",(--(I11='CONFIG (NÃO EDITAR)'!$B$9)+--(J11='CONFIG (NÃO EDITAR)'!$B$10))/2) | T11: =IF(A11="","",(--(K11='CONFIG (NÃO EDITAR)'!$B$11)+--(L11='CONFIG (NÃO EDITAR)'!$B$12)+--(M11='CONFIG (NÃO EDITAR)'!$B$13))/3)
K12: =IF(A12="","",--(B12='CONFIG (NÃO EDITAR)'!$B$2)+--(C12='CONFIG (NÃO EDITAR)'!$B$3)+--(D12='CONFIG (NÃO EDITAR)'!$B$4)+--(E12='CONFIG (NÃO EDITAR)'!$B$5)+--(F12='CONFIG (NÃO EDITAR)'!$B$6)+--(G12='CONFIG (NÃO EDITAR)'!$B$7)+--(H12='CONFIG (NÃO EDITAR)'!$B$8)+--(I12='CONFIG (NÃO EDITAR)'!$B$9)+--(J12='CONFIG (NÃO EDITAR)'!$B$10)) | L12: =IF(A12="","",K12/9) | M12: =IF(A12="","",(--(B12='CONFIG (NÃO EDITAR)'!$B$2)+--(C12='CONFIG (NÃO EDITAR)'!$B$3))/2) | N12: =IF(A12="","",(--(D12='CONFIG (NÃO EDITAR)'!$B$4)+--(E12='CONFIG (NÃO EDITAR)'!$B$5))/2) | O12: =IF(A12="","",(--(F12='CONFIG (NÃO EDITAR)'!$B$6)+--(G12='CONFIG (NÃO EDITAR)'!$B$7))/2) | P12: =IF(A12="","",(H12='CONFIG (NÃO EDITAR)'!$B$8)+0) | Q12: =IF(A12="","",(--(I12='CONFIG (NÃO EDITAR)'!$B$9)+--(J12='CONFIG (NÃO EDITAR)'!$B$10))/2) | R12: =IF(A12="","",(--(G12='CONFIG (NÃO EDITAR)'!$B$7)+--(H12='CONFIG (NÃO EDITAR)'!$B$8))/2) | S12: =IF(A12="","",(--(I12='CONFIG (NÃO EDITAR)'!$B$9)+--(J12='CONFIG (NÃO EDITAR)'!$B$10))/2) | T12: =IF(A12="","",(--(K12='CONFIG (NÃO EDITAR)'!$B$11)+--(L12='CONFIG (NÃO EDITAR)'!$B$12)+--(M12='CONFIG (NÃO EDITAR)'!$B$13))/3)
K13: =IF(A13="","",--(B13='CONFIG (NÃO EDITAR)'!$B$2)+--(C13='CONFIG (NÃO EDITAR)'!$B$3)+--(D13='CONFIG (NÃO EDITAR)'!$B$4)+--(E13='CONFIG (NÃO EDITAR)'!$B$5)+--(F13='CONFIG (NÃO EDITAR)'!$B$6)+--(G13='CONFIG (NÃO EDITAR)'!$B$7)+--(H13='CONFIG (NÃO EDITAR)'!$B$8)+--(I13='CONFIG (NÃO EDITAR)'!$B$9)+--(J13='CONFIG (NÃO EDITAR)'!$B$10)) | L13: =IF(A13="","",K13/9) | M13: =IF(A13="","",(--(B13='CONFIG (NÃO EDITAR)'!$B$2)+--(C13='CONFIG (NÃO EDITAR)'!$B$3))/2) | N13: =IF(A13="","",(--(D13='CONFIG (NÃO EDITAR)'!$B$4)+--(E13='CONFIG (NÃO EDITAR)'!$B$5))/2) | O13: =IF(A13="","",(--(F13='CONFIG (NÃO EDITAR)'!$B$6)+--(G13='CONFIG (NÃO EDITAR)'!$B$7))/2) | P13: =IF(A13="","",(H13='CONFIG (NÃO EDITAR)'!$B$8)+0) | Q13: =IF(A13="","",(--(I13='CONFIG (NÃO EDITAR)'!$B$9)+--(J13='CONFIG (NÃO EDITAR)'!$B$10))/2) | R13: =IF(A13="","",(--(G13='CONFIG (NÃO EDITAR)'!$B$7)+--(H13='CONFIG (NÃO EDITAR)'!$B$8))/2) | S13: =IF(A13="","",(--(I13='CONFIG (NÃO EDITAR)'!$B$9)+--(J13='CONFIG (NÃO EDITAR)'!$B$10))/2) | T13: =IF(A13="","",(--(K13='CONFIG (NÃO EDITAR)'!$B$11)+--(L13='CONFIG (NÃO EDITAR)'!$B$12)+--(M13='CONFIG (NÃO EDITAR)'!$B$13))/3)
K14: =IF(A14="","",--(B14='CONFIG (NÃO EDITAR)'!$B$2)+--(C14='CONFIG (NÃO EDITAR)'!$B$3)+--(D14='CONFIG (NÃO EDITAR)'!$B$4)+--(E14='CONFIG (NÃO EDITAR)'!$B$5)+--(F14='CONFIG (NÃO EDITAR)'!$B$6)+--(G14='CONFIG (NÃO EDITAR)'!$B$7)+--(H14='CONFIG (NÃO EDITAR)'!$B$8)+--(I14='CONFIG (NÃO EDITAR)'!$B$9)+--(J14='CONFIG (NÃO EDITAR)'!$B$10)) | L14: =IF(A14="","",K14/9) | M14: =IF(A14="","",(--(B14='CONFIG (NÃO EDITAR)'!$B$2)+--(C14='CONFIG (NÃO EDITAR)'!$B$3))/2) | N14: =IF(A14="","",(--(D14='CONFIG (NÃO EDITAR)'!$B$4)+--(E14='CONFIG (NÃO EDITAR)'!$B$5))/2) | O14: =IF(A14="","",(--(F14='CONFIG (NÃO EDITAR)'!$B$6)+--(G14='CONFIG (NÃO EDITAR)'!$B$7))/2) | P14: =IF(A14="","",(H14='CONFIG (NÃO EDITAR)'!$B$8)+0) | Q14: =IF(A14="","",(--(I14='CONFIG (NÃO EDITAR)'!$B$9)+--(J14='CONFIG (NÃO EDITAR)'!$B$10))/2) | R14: =IF(A14="","",(--(G14='CONFIG (NÃO EDITAR)'!$B$7)+--(H14='CONFIG (NÃO EDITAR)'!$B$8))/2) | S14: =IF(A14="","",(--(I14='CONFIG (NÃO EDITAR)'!$B$9)+--(J14='CONFIG (NÃO EDITAR)'!$B$10))/2) | T14: =IF(A14="","",(--(K14='CONFIG (NÃO EDITAR)'!$B$11)+--(L14='CONFIG (NÃO EDITAR)'!$B$12)+--(M14='CONFIG (NÃO EDITAR)'!$B$13))/3)
K15: =IF(A15="","",--(B15='CONFIG (NÃO EDITAR)'!$B$2)+--(C15='CONFIG (NÃO EDITAR)'!$B$3)+--(D15='CONFIG (NÃO EDITAR)'!$B$4)+--(E15='CONFIG (NÃO EDITAR)'!$B$5)+--(F15='CONFIG (NÃO EDITAR)'!$B$6)+--(G15='CONFIG (NÃO EDITAR)'!$B$7)+--(H15='CONFIG (NÃO EDITAR)'!$B$8)+--(I15='CONFIG (NÃO EDITAR)'!$B$9)+--(J15='CONFIG (NÃO EDITAR)'!$B$10)) | L15: =IF(A15="","",K15/9) | M15: =IF(A15="","",(--(B15='CONFIG (NÃO EDITAR)'!$B$2)+--(C15='CONFIG (NÃO EDITAR)'!$B$3))/2) | N15: =IF(A15="","",(--(D15='CONFIG (NÃO EDITAR)'!$B$4)+--(E15='CONFIG (NÃO EDITAR)'!$B$5))/2) | O15: =IF(A15="","",(--(F15='CONFIG (NÃO EDITAR)'!$B$6)+--(G15='CONFIG (NÃO EDITAR)'!$B$7))/2) | P15: =IF(A15="","",(H15='CONFIG (NÃO EDITAR)'!$B$8)+0) | Q15: =IF(A15="","",(--(I15='CONFIG (NÃO EDITAR)'!$B$9)+--(J15='CONFIG (NÃO EDITAR)'!$B$10))/2) | R15: =IF(A15="","",(--(G15='CONFIG (NÃO EDITAR)'!$B$7)+--(H15='CONFIG (NÃO EDITAR)'!$B$8))/2) | S15: =IF(A15="","",(--(I15='CONFIG (NÃO EDITAR)'!$B$9)+--(J15='CONFIG (NÃO EDITAR)'!$B$10))/2) | T15: =IF(A15="","",(--(K15='CONFIG (NÃO EDITAR)'!$B$11)+--(L15='CONFIG (NÃO EDITAR)'!$B$12)+--(M15='CONFIG (NÃO EDITAR)'!$B$13))/3)
K16: =IF(A16="","",--(B16='CONFIG (NÃO EDITAR)'!$B$2)+--(C16='CONFIG (NÃO EDITAR)'!$B$3)+--(D16='CONFIG (NÃO EDITAR)'!$B$4)+--(E16='CONFIG (NÃO EDITAR)'!$B$5)+--(F16='CONFIG (NÃO EDITAR)'!$B$6)+--(G16='CONFIG (NÃO EDITAR)'!$B$7)+--(H16='CONFIG (NÃO EDITAR)'!$B$8)+--(I16='CONFIG (NÃO EDITAR)'!$B$9)+--(J16='CONFIG (NÃO EDITAR)'!$B$10)) | L16: =IF(A16="","",K16/9) | M16: =IF(A16="","",(--(B16='CONFIG (NÃO EDITAR)'!$B$2)+--(C16='CONFIG (NÃO EDITAR)'!$B$3))/2) | N16: =IF(A16="","",(--(D16='CONFIG (NÃO EDITAR)'!$B$4)+--(E16='CONFIG (NÃO EDITAR)'!$B$5))/2) | O16: =IF(A16="","",(--(F16='CONFIG (NÃO EDITAR)'!$B$6)+--(G16='CONFIG (NÃO EDITAR)'!$B$7))/2) | P16: =IF(A16="","",(H16='CONFIG (NÃO EDITAR)'!$B$8)+0) | Q16: =IF(A16="","",(--(I16='CONFIG (NÃO EDITAR)'!$B$9)+--(J16='CONFIG (NÃO EDITAR)'!$B$10))/2) | R16: =IF(A16="","",(--(G16='CONFIG (NÃO EDITAR)'!$B$7)+--(H16='CONFIG (NÃO EDITAR)'!$B$8))/2) | S16: =IF(A16="","",(--(I16='CONFIG (NÃO EDITAR)'!$B$9)+--(J16='CONFIG (NÃO EDITAR)'!$B$10))/2) | T16: =IF(A16="","",(--(K16='CONFIG (NÃO EDITAR)'!$B$11)+--(L16='CONFIG (NÃO EDITAR)'!$B$12)+--(M16='CONFIG (NÃO EDITAR)'!$B$13))/3)
K17: =IF(A17="","",--(B17='CONFIG (NÃO EDITAR)'!$B$2)+--(C17='CONFIG (NÃO EDITAR)'!$B$3)+--(D17='CONFIG (NÃO EDITAR)'!$B$4)+--(E17='CONFIG (NÃO EDITAR)'!$B$5)+--(F17='CONFIG (NÃO EDITAR)'!$B$6)+--(G17='CONFIG (NÃO EDITAR)'!$B$7)+--(H17='CONFIG (NÃO EDITAR)'!$B$8)+--(I17='CONFIG (NÃO EDITAR)'!$B$9)+--(J17='CONFIG (NÃO EDITAR)'!$B$10)) | L17: =IF(A17="","",K17/9) | M17: =IF(A17="","",(--(B17='CONFIG (NÃO EDITAR)'!$B$2)+--(C17='CONFIG (NÃO EDITAR)'!$B$3))/2) | N17: =IF(A17="","",(--(D17='CONFIG (NÃO EDITAR)'!$B$4)+--(E17='CONFIG (NÃO EDITAR)'!$B$5))/2) | O17: =IF(A17="","",(--(F17='CONFIG (NÃO EDITAR)'!$B$6)+--(G17='CONFIG (NÃO EDITAR)'!$B$7))/2) | P17: =IF(A17="","",(H17='CONFIG (NÃO EDITAR)'!$B$8)+0) | Q17: =IF(A17="","",(--(I17='CONFIG (NÃO EDITAR)'!$B$9)+--(J17='CONFIG (NÃO EDITAR)'!$B$10))/2) | R17: =IF(A17="","",(--(G17='CONFIG (NÃO EDITAR)'!$B$7)+--(H17='CONFIG (NÃO EDITAR)'!$B$8))/2) | S17: =IF(A17="","",(--(I17='CONFIG (NÃO EDITAR)'!$B$9)+--(J17='CONFIG (NÃO EDITAR)'!$B$10))/2) | T17: =IF(A17="","",(--(K17='CONFIG (NÃO EDITAR)'!$B$11)+--(L17='CONFIG (NÃO EDITAR)'!$B$12)+--(M17='CONFIG (NÃO EDITAR)'!$B$13))/3)
K18: =IF(A18="","",--(B18='CONFIG (NÃO EDITAR)'!$B$2)+--(C18='CONFIG (NÃO EDITAR)'!$B$3)+--(D18='CONFIG (NÃO EDITAR)'!$B$4)+--(E18='CONFIG (NÃO EDITAR)'!$B$5)+--(F18='CONFIG (NÃO EDITAR)'!$B$6)+--(G18='CONFIG (NÃO EDITAR)'!$B$7)+--(H18='CONFIG (NÃO EDITAR)'!$B$8)+--(I18='CONFIG (NÃO EDITAR)'!$B$9)+--(J18='CONFIG (NÃO EDITAR)'!$B$10)) | L18: =IF(A18="","",K18/9) | M18: =IF(A18="","",(--(B18='CONFIG (NÃO EDITAR)'!$B$2)+--(C18='CONFIG (NÃO EDITAR)'!$B$3))/2) | N18: =IF(A18="","",(--(D18='CONFIG (NÃO EDITAR)'!$B$4)+--(E18='CONFIG (NÃO EDITAR)'!$B$5))/2) | O18: =IF(A18="","",(--(F18='CONFIG (NÃO EDITAR)'!$B$6)+--(G18='CONFIG (NÃO EDITAR)'!$B$7))/2) | P18: =IF(A18="","",(H18='CONFIG (NÃO EDITAR)'!$B$8)+0) | Q18: =IF(A18="","",(--(I18='CONFIG (NÃO EDITAR)'!$B$9)+--(J18='CONFIG (NÃO EDITAR)'!$B$10))/2) | R18: =IF(A18="","",(--(G18='CONFIG (NÃO EDITAR)'!$B$7)+--(H18='CONFIG (NÃO EDITAR)'!$B$8))/2) | S18: =IF(A18="","",(--(I18='CONFIG (NÃO EDITAR)'!$B$9)+--(J18='CONFIG (NÃO EDITAR)'!$B$10))/2) | T18: =IF(A18="","",(--(K18='CONFIG (NÃO EDITAR)'!$B$11)+--(L18='CONFIG (NÃO EDITAR)'!$B$12)+--(M18='CONFIG (NÃO EDITAR)'!$B$13))/3)
K19: =IF(A19="","",--(B19='CONFIG (NÃO EDITAR)'!$B$2)+--(C19='CONFIG (NÃO EDITAR)'!$B$3)+--(D19='CONFIG (NÃO EDITAR)'!$B$4)+--(E19='CONFIG (NÃO EDITAR)'!$B$5)+--(F19='CONFIG (NÃO EDITAR)'!$B$6)+--(G19='CONFIG (NÃO EDITAR)'!$B$7)+--(H19='CONFIG (NÃO EDITAR)'!$B$8)+--(I19='CONFIG (NÃO EDITAR)'!$B$9)+--(J19='CONFIG (NÃO EDITAR)'!$B$10)) | L19: =IF(A19="","",K19/9) | M19: =IF(A19="","",(--(B19='CONFIG (NÃO EDITAR)'!$B$2)+--(C19='CONFIG (NÃO EDITAR)'!$B$3))/2) | N19: =IF(A19="","",(--(D19='CONFIG (NÃO EDITAR)'!$B$4)+--(E19='CONFIG (NÃO EDITAR)'!$B$5))/2) | O19: =IF(A19="","",(--(F19='CONFIG (NÃO EDITAR)'!$B$6)+--(G19='CONFIG (NÃO EDITAR)'!$B$7))/2) | P19: =IF(A19="","",(H19='CONFIG (NÃO EDITAR)'!$B$8)+0) | Q19: =IF(A19="","",(--(I19='CONFIG (NÃO EDITAR)'!$B$9)+--(J19='CONFIG (NÃO EDITAR)'!$B$10))/2) | R19: =IF(A19="","",(--(G19='CONFIG (NÃO EDITAR)'!$B$7)+--(H19='CONFIG (NÃO EDITAR)'!$B$8))/2) | S19: =IF(A19="","",(--(I19='CONFIG (NÃO EDITAR)'!$B$9)+--(J19='CONFIG (NÃO EDITAR)'!$B$10))/2) | T19: =IF(A19="","",(--(K19='CONFIG (NÃO EDITAR)'!$B$11)+--(L19='CONFIG (NÃO EDITAR)'!$B$12)+--(M19='CONFIG (NÃO EDITAR)'!$B$13))/3)
... K57: =IF(A57="","",--(B57='CONFIG (NÃO EDITAR)'!$B$2)+--(C57='CONFIG (NÃO EDITAR)'!$B$3)+--(D57='CONFIG (NÃO EDITAR)'!$B$4)+--(E57='CONFIG (NÃO EDITAR)'!$B$5)+--(F57='CONFIG (NÃO EDITAR)'!$B$6)+--(G57='CONFIG (NÃO EDITAR)'!$B$7)+--(H57='CONFIG (NÃO EDITAR)'!$B$8)+--(I57='CONFIG (NÃO EDITAR)'!$B$9)+--(J57='CONFIG (NÃO EDITAR)'!$B$10)) | L57: =IF(A57="","",K57/9) | M57: =IF(A57="","",(--(B57='CONFIG (NÃO EDITAR)'!$B$2)+--(C57='CONFIG (NÃO EDITAR)'!$B$3))/2) | N57: =IF(A57="","",(--(D57='CONFIG (NÃO EDITAR)'!$B$4)+--(E57='CONFIG (NÃO EDITAR)'!$B$5))/2) | O57: =IF(A57="","",(--(F57='CONFIG (NÃO EDITAR)'!$B$6)+--(G57='CONFIG (NÃO EDITAR)'!$B$7))/2) | P57: =IF(A57="","",(H57='CONFIG (NÃO EDITAR)'!$B$8)+0) | Q57: =IF(A57="","",(--(I57='CONFIG (NÃO EDITAR)'!$B$9)+--(J57='CONFIG (NÃO EDITAR)'!$B$10))/2) | R57: =IF(A57="","",(--(G57='CONFIG (NÃO EDITAR)'!$B$7)+--(H57='CONFIG (NÃO EDITAR)'!$B$8))/2) | S57: =IF(A57="","",(--(I57='CONFIG (NÃO EDITAR)'!$B$9)+--(J57='CONFIG (NÃO EDITAR)'!$B$10))/2) | T57: =IF(A57="","",(--(K57='CONFIG (NÃO EDITAR)'!$B$11)+--(L57='CONFIG (NÃO EDITAR)'!$B$12)+--(M57='CONFIG (NÃO EDITAR)'!$B$13))/3)

Sheet PAINEL
A1: PAINEL DA TURMA
A4: Turma | B4: =IF('ANÁLISE COLETIVA'!B4="","",'ANÁLISE COLETIVA'!B4)
A5: Participantes | B5: =IF('ANÁLISE COLETIVA'!B6="","",'ANÁLISE COLETIVA'!B6)
A6: Maior consolidação | B6: =IF(COUNT('ANÁLISE COLETIVA'!I5:I9)=0,"",INDEX('ANÁLISE COLETIVA'!H5:H9,MATCH(MAX('ANÁLISE COLETIVA'!I5:I9),'ANÁLISE COLETIVA'!I5:I9,0)))
A7: Possível prioridade | B7: =IF(COUNT('ANÁLISE COLETIVA'!I5:I9)=0,"",INDEX('ANÁLISE COLETIVA'!H5:H9,MATCH(MIN('ANÁLISE COLETIVA'!I5:I9),'ANÁLISE COLETIVA'!I5:I9,0)))
A10: Eixo | B10: Resultado | C10: Minha decisão
A11: Números naturais | B11: =IF('ANÁLISE COLETIVA'!I5="","",'ANÁLISE COLETIVA'!I5)
A12: Frações | B12: =IF('ANÁLISE COLETIVA'!I6="","",'ANÁLISE COLETIVA'!I6)
A13: Números decimais | B13: =IF('ANÁLISE COLETIVA'!I7="","",'ANÁLISE COLETIVA'!I7)
A14: Porcentagem | B14: =IF('ANÁLISE COLETIVA'!I8="","",'ANÁLISE COLETIVA'!I8)
A15: Geometria plana | B15: =IF('ANÁLISE COLETIVA'!I9="","",'ANÁLISE COLETIVA'!I9)
A18: A planilha organiza evidências. A decisão pedagógica continua sendo do professor. Cruze percentuais, tipos de erro e observações da aplicação.

Sheet CONFIG (NÃO EDITAR)
A1: Questão | B1: Gabarito | C1: Eixo | D1: Observação | E1: Uso | F1: Parâmetro | G1: Faixa | H1: Valor
A2: Q1 | B2: C | C2: Números naturais | D2: Valor posicional | E2: Objetiva | G2: Consolidação | H2: 0.8
A3: Q2 | B3: C | C3: Números naturais | D3: Múltiplos comuns | E3: Objetiva | G3: Atenção | H3: 0.6
A4: Q3 | B4: A | C4: Frações | D4: Comparação de frações | E4: Objetiva
A5: Q4 | B5: B | C5: Frações | D5: Adição de frações | E5: Objetiva
A6: Q5 | B6: A | C6: Números decimais | D6: Adição de decimais | E6: Objetiva
A7: Q6 | B7: A | C7: Números decimais | D7: Relação decimal-fração | E7: Objetiva
A8: Q7 | B8: A | C8: Porcentagem | D8: Porcentagem em contexto | E8: Objetiva
A9: Q8 | B9: B | C9: Geometria plana | D9: Classificação de ângulos | E9: Objetiva
A10: Q9 | B10: B | C10: Geometria plana | D10: Classificação de polígonos | E10: Objetiva
B11: B | C11: Geometria plana | D11: Classificação de ângulos | E11: Objetiva
B12: B | C12: Geometria plana | D12: Classificação de polígonos | E12: Objetiva
B13: B | C13: Geometria plana | D13: Perímetro do retângulo | E13: Objetiva
A15: ABA TÉCNICA — NÃO ALTERE GABARITOS, EIXOS OU PARÂMETROS. Mudanças aqui afetam todos os resultados.
